BEGIN:VCALENDAR
VERSION:2.0
PRODID:-//Essence Of My Heart - Pilates &amp; Yoga in Warwick, QLD. - ECPv4.8.1//NONSGML v1.0//EN
CALSCALE:GREGORIAN
METHOD:PUBLISH
X-WR-CALNAME:Essence Of My Heart - Pilates &amp; Yoga in Warwick, QLD.
X-ORIGINAL-URL:https://essenceofmyheart.com.au
X-WR-CALDESC:Events for Essence Of My Heart - Pilates &amp; Yoga in Warwick, QLD.
BEGIN:VEVENT
DTSTART;TZID=UTC+10:20170612T091500
DTEND;TZID=UTC+10:20170612T101500
DTSTAMP:20190301T160750
CREATED:20170605T021604Z
LAST-MODIFIED:20170605T021604Z
UID:2336-1497258900-1497262500@essenceofmyheart.com.au
SUMMARY:10 Week Health & Wellbeing Program
DESCRIPTION:WINTER IS COMING TO THE SOUTHERN DOWNS\nSouthern Downs Community Health and Wellbeing Project 2017\nSupporting the Community to be Healthy & Active For Life! … Let’s Take The First Step Together\nStarting June 12 to Monday 21 August 2017. \nThe Winter Is Coming Campaign aims to support the whole community from all ages\, to be healthy and active for life\, including good healthy food choices\, general health and wellbeing and physical activity. \nThe program will kick off with the Community Screenings of ‘That Sugar Film’ starting Monday 12th June in Allora. Followed by screenings in Stanthorpe (13 June)\, Warwick (14 June)\, Wallangarra (15 June)\, and Killarney (16 June).\nTickets can be purchased from http://warwicktickets.com.au/ (Warwick\, Allora and Killarney) or http://stanthorpetickets.com.au/ (Stanthorpe and Wallangarra). Cash tickets are available from Warwick and Stanthorpe Council Offices (please ask for Hailey Cosh Rickard (Warwick) and Zoe Dunlop (Stanthorpe).\nSpecial Guest Robyn Jordan (from Healthy Inspirations and Dietflex) will be the MC for the film screenings\, bringing her extensive knowledge and expertise on nutrition and healthy eating. Robyn and local Chef Amy Higgins (it’s Simple) will be providing an exclusive cooking class at YMCA Camp Leslie Dam on Friday 16 June from 11am -1pm (bookings essential – please contact WIRAC 4661 7955 for more information – $45 per person). \nThe 10 Week “Winter Is Coming To The Southern Downs” Program is committed to inspiring and supporting the community in the areas of health\, wellbeing and fitness. Gyms\, Fitness providers & Health and Wellbeing Practitioners are delighted to offer and showcase what the region has to offer. To avoid hibernating why not attend a gym program\, yoga\, pilates\, tai chi\, fitness session\, or health and wellbeing class. \nFor the 10 Week program @\nEssence Of My Heart Pilates Yoga Barre Studio\nPilates 9.15am Mondays will be at 1/2 Price ($10) \n
URL:https://essenceofmyheart.com.au/event/10-week-health-wellbeing-program/
LOCATION:Essence Of My Heart Studio\, 75 Fitzroy Street\, Warwick\, QLD\, 4370\, Australia
ATTACH;FMTTYPE=image/jpeg:https://essenceofmyheart.com.au/wp-content/uploads/2017/06/facebook_event_298669673916168.jpg
END:VEVENT
END:VCALENDAR