BEGIN:VCALENDAR
VERSION:2.0
PRODID:-//Essence Of My Heart - Pilates &amp; Yoga in Warwick, QLD. - ECPv4.8.1//NONSGML v1.0//EN
CALSCALE:GREGORIAN
METHOD:PUBLISH
X-WR-CALNAME:Essence Of My Heart - Pilates &amp; Yoga in Warwick, QLD.
X-ORIGINAL-URL:https://essenceofmyheart.com.au
X-WR-CALDESC:Events for Essence Of My Heart - Pilates &amp; Yoga in Warwick, QLD.
BEGIN:VEVENT
DTSTART;TZID=UTC+10:20161218T084500
DTEND;TZID=UTC+10:20161218T101500
DTSTAMP:20190301T160347
CREATED:20161201T030931Z
LAST-MODIFIED:20161201T030931Z
UID:1556-1482050700-1482056100@essenceofmyheart.com.au
SUMMARY:Essence Of My Heart Christmas Party
DESCRIPTION:Join us at Essence Of My Heart studio to celebrate this year!\nInvite your loved ones to join us to celebrate our very first Christmas\, with our fun beginners flow @ 9am\,\nbreath\, friends\, sweat and movement of mind body & soul. \n-Discounts on 10pass\, 5 pass\, daily greatness journals\, books\, clothing & more..\n-Delicious healthy Chocolate Cake to share!! \n
URL:https://essenceofmyheart.com.au/event/essence-of-my-heart-christmas-party/
LOCATION:Essence Of My Heart Studio\, 75 Fitzroy Street\, Warwick\, QLD\, 4370\, Australia
ATTACH;FMTTYPE=image/jpeg:https://essenceofmyheart.com.au/wp-content/uploads/2016/12/facebook_event_206603216461731.jpg
END:VEVENT
END:VCALENDAR