BEGIN:VCALENDAR
VERSION:2.0
PRODID:-//Essence Of My Heart - Pilates &amp; Yoga in Warwick, QLD. - ECPv4.8.1//NONSGML v1.0//EN
CALSCALE:GREGORIAN
METHOD:PUBLISH
X-WR-CALNAME:Essence Of My Heart - Pilates &amp; Yoga in Warwick, QLD.
X-ORIGINAL-URL:https://essenceofmyheart.com.au
X-WR-CALDESC:Events for Essence Of My Heart - Pilates &amp; Yoga in Warwick, QLD.
BEGIN:VEVENT
DTSTART;TZID=Australia/Brisbane:20180527T150000
DTEND;TZID=Australia/Brisbane:20180527T163000
DTSTAMP:20190301T152436
CREATED:20180507T202551Z
LAST-MODIFIED:20180507T202551Z
UID:3258-1527433200-1527438600@essenceofmyheart.com.au
SUMMARY:Essential Oils & Winter Wellness
DESCRIPTION:Do you wonder what all the fuss is about with Essential Oils? \nThis is what this workshop is about\, I am currently studying my Masters in Aromatherapy and I can’t tell you enough how much I love pure essential oils and how much I want to share with you from my own experiences and study\, what you can do to prevent the winter time bugs for you and your family. \nYou will each recieve your own Easy Air Blend (Breathe) to take home and put into practise from we learn. Bring your note book and pen to write notes.\nThis workshop is Free for those Wellness Advocates of Essence Of My Heart – Jes. \nJes x \nLimited Spaces booking essential \n
URL:https://essenceofmyheart.com.au/event/essential-oils-winter-wellness/
ATTACH;FMTTYPE=image/jpeg:https://essenceofmyheart.com.au/wp-content/uploads/2018/05/Storm-Lahiff-Photographer_DoTERRA_Essenceo-of-my-Heart_Jes-13_preview.jpeg
END:VEVENT
END:VCALENDAR