BEGIN:VCALENDAR
VERSION:2.0
PRODID:-//Essence Of My Heart - Pilates &amp; Yoga in Warwick, QLD. - ECPv4.8.1//NONSGML v1.0//EN
CALSCALE:GREGORIAN
METHOD:PUBLISH
X-WR-CALNAME:Essence Of My Heart - Pilates &amp; Yoga in Warwick, QLD.
X-ORIGINAL-URL:https://essenceofmyheart.com.au
X-WR-CALDESC:Events for Essence Of My Heart - Pilates &amp; Yoga in Warwick, QLD.
BEGIN:VEVENT
DTSTART;TZID=UTC+10:20161124T190000
DTEND;TZID=UTC+10:20161124T203000
DTSTAMP:20190301T160332
CREATED:20161114T060514Z
LAST-MODIFIED:20161114T063834Z
UID:1462-1480014000-1480019400@essenceofmyheart.com.au
SUMMARY:Food For Wellness
DESCRIPTION:If you are keen to learn how to better support you and your families health and wellness through the power of nature you are going to love this workshop. \nJoin myself and Jes in this fun interactive workshop and learn how to incorporate therapeutic grade essential oils into your daily life. Not only will this workshop help you take some crucial steps towards reducing the toxic load of food we have in our home you will learn how to incorporate these beautiful oils into everyday recipes.\nYou will learn how to support your emotional health\, gut health and overall wellness for life.\nYou will have the pleasure of sampling all of these delicious recipes\, you will also have the opportunity to win a free nutrition consult with me. \nGrab a friend and come have some fun in the kitchen. \nKaren Maree \n
URL:https://essenceofmyheart.com.au/event/food-for-wellness/
LOCATION:Essence Of My Heart Studio\, 75 Fitzroy Street\, Warwick\, QLD\, 4370\, Australia
ATTACH;FMTTYPE=image/jpeg:https://essenceofmyheart.com.au/wp-content/uploads/2016/11/facebook_event_600416983500187.jpg
END:VEVENT
END:VCALENDAR