BEGIN:VCALENDAR
VERSION:2.0
PRODID:-//Essence Of My Heart - Pilates &amp; Yoga in Warwick, QLD. - ECPv4.8.1//NONSGML v1.0//EN
CALSCALE:GREGORIAN
METHOD:PUBLISH
X-WR-CALNAME:Essence Of My Heart - Pilates &amp; Yoga in Warwick, QLD.
X-ORIGINAL-URL:https://essenceofmyheart.com.au
X-WR-CALDESC:Events for Essence Of My Heart - Pilates &amp; Yoga in Warwick, QLD.
BEGIN:VEVENT
DTSTART;TZID=Australia/Brisbane:20180501T183000
DTEND;TZID=Australia/Brisbane:20180501T193000
DTSTAMP:20190301T152319
CREATED:20180419T070113Z
LAST-MODIFIED:20180419T070224Z
UID:3175-1525199400-1525203000@essenceofmyheart.com.au
SUMMARY:Guided Meditation
DESCRIPTION:Meditation May- 5 weeks of Guided Meditation with Mikeala \nEach Tuesday evening in May join Mikeala for 45 minutes of guided meditation. Each week you will be guided through a new meditation technique. You will also take home your own Mala beads and new skills to easily incorporated into your own meditation practise. No meditation experience needed\, you will be guided each step of the way. \nTime: 6:40-7:25pm after a Yoga Flow \n\nTuesday 1st May: Guided Visualisation \nTuesday 8Th May: Antar Monau \nTuesday 15th May: Chakras \nTuesday 22nd May: Japa Mala \nTuesday 29th May: Yoga Nidra \nYour investment: $80 including Mala Beads \nCasual visits: $20 per/week + $20 for a Mala \nPayment needed to secure your space prior to workshop commencing. \nBookings needed for casual visit in week 4 to ensure enough Malas are available. \n\n
URL:https://essenceofmyheart.com.au/event/guided-meditation/
CATEGORIES:Yoga
ATTACH;FMTTYPE=image/png:https://essenceofmyheart.com.au/wp-content/uploads/2018/04/mikela.png
END:VEVENT
END:VCALENDAR