BEGIN:VCALENDAR
VERSION:2.0
PRODID:-//Essence Of My Heart - Pilates &amp; Yoga in Warwick, QLD. - ECPv4.8.1//NONSGML v1.0//EN
CALSCALE:GREGORIAN
METHOD:PUBLISH
X-WR-CALNAME:Essence Of My Heart - Pilates &amp; Yoga in Warwick, QLD.
X-ORIGINAL-URL:https://essenceofmyheart.com.au
X-WR-CALDESC:Events for Essence Of My Heart - Pilates &amp; Yoga in Warwick, QLD.
BEGIN:VEVENT
DTSTART;TZID=UTC+10:20170203T130000
DTEND;TZID=UTC+10:20170203T150000
DTSTAMP:20190301T160520
CREATED:20170124T201421Z
LAST-MODIFIED:20170124T201421Z
UID:1707-1486126800-1486134000@essenceofmyheart.com.au
SUMMARY:Introduction to essential oils
DESCRIPTION:We love and use doTERRA @ essence Of my heart studio and we want to share this with you if you loved Ang classes this follows on from YogaScents. \nThis is an introductory workshop of doTERRA uses and benefits \nNatures medicine for your home are natural aromatic compounds found in seeds\, bark\, roots\, flowers and other parts of plants. \nCome along\, Ang will take you through a journey into the world of doTERRA\, where you can not only apply\, but ingest these oils\, this is the beginning\, we will learn how to use them in our home for cleaning\, cooking\, for a spa\, we will explore: \n*What are they?\n*Why are they so effective?\n*How to use them to help your family become healthier  \nSee what nature has to give to us. \nThis is a free workshop for like-minded people wanting to live a pure and natural life. \n
URL:https://essenceofmyheart.com.au/event/introduction-to-essential-oils/
LOCATION:Essence Of My Heart Studio\, 75 Fitzroy Street\, Warwick\, QLD\, 4370\, Australia
ATTACH;FMTTYPE=image/jpeg:https://essenceofmyheart.com.au/wp-content/uploads/2017/01/facebook_event_347983488933774.jpg
END:VEVENT
END:VCALENDAR