BEGIN:VCALENDAR
VERSION:2.0
PRODID:-//Essence Of My Heart - Pilates &amp; Yoga in Warwick, QLD. - ECPv4.8.1//NONSGML v1.0//EN
CALSCALE:GREGORIAN
METHOD:PUBLISH
X-WR-CALNAME:Essence Of My Heart - Pilates &amp; Yoga in Warwick, QLD.
X-ORIGINAL-URL:https://essenceofmyheart.com.au
X-WR-CALDESC:Events for Essence Of My Heart - Pilates &amp; Yoga in Warwick, QLD.
BEGIN:VEVENT
DTSTART;TZID=Australia/Brisbane:20180826T100000
DTEND;TZID=Australia/Brisbane:20180826T114000
DTSTAMP:20190226T171000
CREATED:20180606T040156Z
LAST-MODIFIED:20180606T040156Z
UID:3450-1535277600-1535283600@essenceofmyheart.com.au
SUMMARY:Ripples and Pulses Of Gratitude
DESCRIPTION:Never before have we had so many opportunities to be both healthy and beautiful. We have all the essential requirements such as food in abundance and from a wide choice\, medical services\, opportunity to keep fit via a huge selection\, access to information as well as advice and thousands of beauty aids and cosmetics. \nHave you ever wondered about alternative health? \nIn this class we will be sharing our light and allowing it to ripple.\nWe are hear to share all delicious alternative ways to prevention in our health we will talk\, do\, and write all about Yoga\, Affirmations\, Aromatherapy\, Ayurveda\, Chakra Balancing\, and Crystal therapy. \nThis is a educational class for those willing to learn\, bring your smile a pen and a note book. \nLimited Spaces bookings essential\nInvestment $20\nFREE – Wellness Advocates Of Essence Of My Heart \n
URL:https://essenceofmyheart.com.au/event/ripples-and-pulses-of-gratitude/
LOCATION:Essence Of My Heart Studio\, 75 Fitzroy Street\, Warwick\, QLD\, 4370\, Australia
ATTACH;FMTTYPE=image/jpeg:https://essenceofmyheart.com.au/wp-content/uploads/2017/09/facebook_event_1376082175823078.jpg
END:VEVENT
END:VCALENDAR