BEGIN:VCALENDAR
VERSION:2.0
PRODID:-//Essence Of My Heart - Pilates &amp; Yoga in Warwick, QLD. - ECPv4.8.1//NONSGML v1.0//EN
CALSCALE:GREGORIAN
METHOD:PUBLISH
X-WR-CALNAME:Essence Of My Heart - Pilates &amp; Yoga in Warwick, QLD.
X-ORIGINAL-URL:https://essenceofmyheart.com.au
X-WR-CALDESC:Events for Essence Of My Heart - Pilates &amp; Yoga in Warwick, QLD.
BEGIN:VEVENT
DTSTART;TZID=Australia/Brisbane:20180719T184500
DTEND;TZID=Australia/Brisbane:20180719T204500
DTSTAMP:20190301T152519
CREATED:20180624T210409Z
LAST-MODIFIED:20180625T102202Z
UID:3652-1532025900-1532033100@essenceofmyheart.com.au
SUMMARY:Sound Healing
DESCRIPTION:Electric Indian zither\, didgeridoo and flutes. \nThe ultimate way for anyone to balance\, reset\, relax\, and listen to live sound. This class is for all bodies at different ages and stages of life. \nInvestment $29 per person – bookings essential \n
URL:https://essenceofmyheart.com.au/event/sound-healing/
LOCATION:Essence Of My Heart Studio\, 75 Fitzroy Street\, Warwick\, QLD\, 4370\, Australia
ATTACH;FMTTYPE=image/jpeg:https://essenceofmyheart.com.au/wp-content/uploads/2018/06/haitch.jpg
END:VEVENT
END:VCALENDAR