BEGIN:VCALENDAR
VERSION:2.0
PRODID:-//Essence Of My Heart - Pilates &amp; Yoga in Warwick, QLD. - ECPv4.8.1//NONSGML v1.0//EN
CALSCALE:GREGORIAN
METHOD:PUBLISH
X-WR-CALNAME:Essence Of My Heart - Pilates &amp; Yoga in Warwick, QLD.
X-ORIGINAL-URL:https://essenceofmyheart.com.au
X-WR-CALDESC:Events for Essence Of My Heart - Pilates &amp; Yoga in Warwick, QLD.
BEGIN:VEVENT
DTSTART;TZID=Australia/Brisbane:20190209T133000
DTEND;TZID=Australia/Brisbane:20190209T150000
DTSTAMP:20190226T165250
CREATED:20190108T214059Z
LAST-MODIFIED:20190127T071403Z
UID:5071-1549719000-1549724400@essenceofmyheart.com.au
SUMMARY:The Goddess Series: Saraswati
DESCRIPTION:Saraswati is the Goddess who embodies the creative flow of Shakti as language\, speech and sound. As the consort of Lord Brahma it was Saraswati’s shakti which impassioned him to shape the worlds from his mind with the vibratory power of the universal mantra Om. \nIn this second class in the Goddess Series we dive into creative sound through Saraswati\, immersing ourselves in her flowing energy. We will be requesting her assistance with any creative endeavours we are currently undertaking through the mediums of asana\, mantra\, meditation and journaling. \n9th February 1:30 to 3pm\n$23.00 \nPlease bring along a journal or some paper to write on and a pen. \n
URL:https://essenceofmyheart.com.au/event/the-goddess-series-saraswati/
LOCATION:Essence Of My Heart Studio\, 75 Fitzroy Street\, Warwick\, QLD\, 4370\, Australia
ATTACH;FMTTYPE=image/jpeg:https://essenceofmyheart.com.au/wp-content/uploads/2018/11/lucy.jpg
END:VEVENT
END:VCALENDAR