BEGIN:VCALENDAR
VERSION:2.0
PRODID:-//Essence Of My Heart - Pilates &amp; Yoga in Warwick, QLD. - ECPv4.8.1//NONSGML v1.0//EN
CALSCALE:GREGORIAN
METHOD:PUBLISH
X-WR-CALNAME:Essence Of My Heart - Pilates &amp; Yoga in Warwick, QLD.
X-ORIGINAL-URL:https://essenceofmyheart.com.au
X-WR-CALDESC:Events for Essence Of My Heart - Pilates &amp; Yoga in Warwick, QLD.
BEGIN:VEVENT
DTSTART;TZID=Australia/Brisbane:20190316T133000
DTEND;TZID=Australia/Brisbane:20190316T150000
DTSTAMP:20190226T165359
CREATED:20190209T053054Z
LAST-MODIFIED:20190222T115718Z
UID:5379-1552743000-1552748400@essenceofmyheart.com.au
SUMMARY:Lakshmi
DESCRIPTION:In this third class in the series\, we welcome the Goddess of abundance and good fortune Lakshmi into our hearts and our lives. Lakshmi’s shakti is that of abundance in all areas of life; she is ecological sustainability and the beauty of nature; she is household wealth\, good food and great company; and she is the energy behind skilfully executed diplomacy and mediation and the graceful wielding of authority. \nEven though Lakshmi can and does provide for material wealth and abundance\, perhaps her greatest gift is bestowing a personal inner sense of beauty and abundance. The ability to experience contentment\, joy and gratitude for what we have and the generosity to share that with others. \nJoin us on Saturday 16th March 1:30 to 3pm for a class asana\, mantra and meditation dedicated to Lakshmi.\n$24.00 \nBook Here \n
URL:https://essenceofmyheart.com.au/event/lakshmi/
LOCATION:Essence Of My Heart Studio\, 75 Fitzroy Street\, Warwick\, QLD\, 4370\, Australia
CATEGORIES:Yoga
ATTACH;FMTTYPE=image/jpeg:https://essenceofmyheart.com.au/wp-content/uploads/2018/11/lucy.jpg
END:VEVENT
END:VCALENDAR